BEGIN:VCALENDAR
VERSION:2.0
PRODID:SchoolNow
CALSCALE:GREGORIAN
BEGIN:VEVENT
UID:b6ea4896-17f6-11ed-a723-0ad28e5cded9
DTSTAMP:20220810T133120Z
SUMMARY:Spooky Science Night - Monroe Campus
LOCATION:7500 Millhaven Road Monroe\, LA 71203
URL;VALUE=URI:https://www.ladelta.edu/campuses/monroe/calendar/3274718/spoo
 ky-science-night
DTSTART:20221018T220000Z
DTEND:20221019T003000Z
END:VEVENT
END:VCALENDAR
