BEGIN:VCALENDAR
VERSION:2.0
PRODID:SchoolNow
CALSCALE:GREGORIAN
BEGIN:VEVENT
UID:acaa2bf2-18b0-11ed-836d-0a95bc78ec59
DTSTAMP:20220810T133109Z
SUMMARY:LDCC Day - Monroe Campus
LOCATION:7500 Millhaven Rd. Monroe\, LA 71203 - ATC Building
URL;VALUE=URI:https://www.ladelta.edu/campuses/monroe/calendar/3275880/ldcc
 -day
DTSTART:20230213T140000Z
DTEND:20230213T223000Z
END:VEVENT
END:VCALENDAR
