BEGIN:VCALENDAR
VERSION:2.0
PRODID:SchoolNow
CALSCALE:GREGORIAN
BEGIN:VEVENT
UID:d9269a80-18b0-11ed-bce0-0a95bc78ec59
DTSTAMP:20220810T133215Z
SUMMARY:LDCC Day - Monroe Campus
LOCATION:7500 Millhaven Rd. Monroe\, LA 71203 - ATC Building
URL;VALUE=URI:https://www.ladelta.edu/campuses/monroe/calendar/3275881/ldcc
 -day-monroe-campus
DTSTART:20230214T140000Z
DTEND:20230214T223000Z
END:VEVENT
END:VCALENDAR
