BEGIN:VCALENDAR
VERSION:2.0
PRODID:SchoolNow
CALSCALE:GREGORIAN
BEGIN:VEVENT
UID:9c1f51ea-595b-11ed-9eae-0eac7215deff
DTSTAMP:20221031T204155Z
SUMMARY:1st Generation College Celebration Day - Monroe Campus
LOCATION:7500 Millhaven Rd. Monroe\, LA 71291
URL;VALUE=URI:https://www.ladelta.edu/campuses/monroe/calendar/3576321/1st-
 generation-college-celebration-day-monroe-campus
DTSTART:20221108T180000Z
DTEND:20221108T200000Z
END:VEVENT
END:VCALENDAR
