BEGIN:VCALENDAR
VERSION:2.0
PRODID:SchoolNow
CALSCALE:GREGORIAN
BEGIN:VEVENT
UID:ed34ece8-595b-11ed-bb49-0eac7215deff
DTSTAMP:20221031T204120Z
SUMMARY:Veterans Day Celebration - Monroe Campus
LOCATION:7500 Millhaven Rd. Monroe\, LA 71291
URL;VALUE=URI:https://www.ladelta.edu/campuses/monroe/calendar/3576323/vete
 rans-day-celebration-monroe-campus
DTSTART:20221111T040000Z
DTEND:20221111T050000Z
END:VEVENT
END:VCALENDAR
