BEGIN:VCALENDAR
VERSION:2.0
PRODID:SchoolNow
CALSCALE:GREGORIAN
BEGIN:VEVENT
UID:dc4fc1c0-5ad5-11ed-8747-02baabe67679
DTSTAMP:20221102T174328Z
SUMMARY:Industrial Technology Night - Monroe Campus
LOCATION:7500 Millhaven Road Monroe\, LA - ATC Community Auditorium
URL;VALUE=URI:https://www.ladelta.edu/campuses/monroe/calendar/3582586/indu
 strial-technology-night-monroe-campus
DTSTART:20221103T230000Z
DTEND:20221104T010000Z
END:VEVENT
END:VCALENDAR
