BEGIN:VCALENDAR
VERSION:2.0
PRODID:SchoolNow
CALSCALE:GREGORIAN
BEGIN:VEVENT
UID:8076d68c-70eb-11ed-9e0d-0e3e12df6353
DTSTAMP:20221130T201602Z
SUMMARY:ASN Pinning Ceremony - Monroe Campus
LOCATION:Ouachita Parish High School
URL;VALUE=URI:https://www.ladelta.edu/campuses/monroe/calendar/3630595/asn-
 monroe-campus-pinning-ceremony
DTSTART:20221209T000000Z
DTEND:20221209T010000Z
END:VEVENT
END:VCALENDAR
