BEGIN:VCALENDAR
VERSION:2.0
PRODID:SchoolNow
CALSCALE:GREGORIAN
BEGIN:VEVENT
UID:cc19fb32-7af5-11ed-811a-023b9351ba9f
DTSTAMP:20221213T145242Z
SUMMARY:MLK Day of Service - Monroe Campus
LOCATION:Louisiana Purchase Building Conference Center A & B
URL;VALUE=URI:https://www.ladelta.edu/campuses/monroe/calendar/3642889/mlk-
 day-of-service-monroe-campus
DTSTART:20230116T160000Z
DTEND:20230116T200000Z
END:VEVENT
END:VCALENDAR
