BEGIN:VCALENDAR
VERSION:2.0
PRODID:SchoolNow
CALSCALE:GREGORIAN
BEGIN:VEVENT
UID:58caa0be-9cc4-11ed-a5b4-0207a56e7475
DTSTAMP:20230125T152603Z
SUMMARY:Hats and Horses - Foundation Fundraising Event - Monroe Campus
LOCATION:7500 Millhaven Road Monroe\, LA
URL;VALUE=URI:https://www.ladelta.edu/campuses/monroe/calendar/3689708/hats
 -and-horses-foundation-fundraising-event-monroe-campus
DTSTART;VALUE=DATE:20230506
DTEND;VALUE=DATE:20230507
END:VEVENT
END:VCALENDAR
