BEGIN:VCALENDAR
VERSION:2.0
PRODID:SchoolNow
CALSCALE:GREGORIAN
BEGIN:VEVENT
UID:a566b722-c519-11ee-be7b-0a58a9feac02
DTSTAMP:20240206T180438Z
SUMMARY:Black History Month Program 2024
URL;VALUE=URI:https://www.ladelta.edu/campuses/monroe/calendar/5273272/blac
 k-history-month-program-2024
DTSTART:20240229T170000Z
DTEND:20240229T190000Z
END:VEVENT
END:VCALENDAR
