BEGIN:VCALENDAR
VERSION:2.0
PRODID:SchoolNow
CALSCALE:GREGORIAN
BEGIN:VEVENT
UID:a3536420-eb80-11ee-8348-0e531075d701
DTSTAMP:20240326T145342Z
SUMMARY:Mark Perna's Inspiring Presentation: LDCC Community College Week
URL;VALUE=URI:https://www.ladelta.edu/campuses/monroe/calendar/5635818/mark
 -pernas-inspiring-presentation-ldcc-community-college-week
DTSTART:20240409T180000Z
DTEND:20240409T200000Z
END:VEVENT
END:VCALENDAR
