BEGIN:VCALENDAR
VERSION:2.0
PRODID:SchoolNow
CALSCALE:GREGORIAN
BEGIN:VEVENT
UID:c136c990-f126-11ee-931b-0a58a9feac02
DTSTAMP:20240402T192524Z
SUMMARY:Rock Enroll at LDCC Monroe
URL;VALUE=URI:https://www.ladelta.edu/campuses/monroe/calendar/5692100/rock
 -enroll-at-ldcc-monroe
DTSTART:20240410T150000Z
DTEND:20240410T190000Z
END:VEVENT
END:VCALENDAR
