BEGIN:VCALENDAR
VERSION:2.0
PRODID:SchoolNow
CALSCALE:GREGORIAN
BEGIN:VEVENT
UID:23325698-f297-11ee-93da-0affc4084d4d
DTSTAMP:20240404T152223Z
SUMMARY:Financial Literacy Workshop by First Horizon's Bank at LDCC Monroe
URL;VALUE=URI:https://www.ladelta.edu/campuses/monroe/calendar/5707997/fina
 ncial-literacy-workshop-by-first-horizons-bank-at-ldcc-monroe
DTSTART:20240411T150000Z
DTEND:20240411T160000Z
END:VEVENT
END:VCALENDAR
