BEGIN:VCALENDAR
VERSION:2.0
PRODID:SchoolNow
CALSCALE:GREGORIAN
BEGIN:VEVENT
UID:4ca602cc-f297-11ee-91b5-0affeb46778b
DTSTAMP:20240404T152333Z
SUMMARY:FAFSA Rally Night
URL;VALUE=URI:https://www.ladelta.edu/campuses/monroe/calendar/5707998/fafs
 a-rally-night
DTSTART:20240411T220000Z
DTEND:20240412T000000Z
END:VEVENT
END:VCALENDAR
