BEGIN:VCALENDAR
VERSION:2.0
PRODID:SchoolNow
CALSCALE:GREGORIAN
BEGIN:VEVENT
UID:70d6ba44-f2b3-11ee-9656-0a58a9feac02
DTSTAMP:20240404T184500Z
SUMMARY:Clubs and Organizations Day at LDCC Monroe
URL;VALUE=URI:https://www.ladelta.edu/campuses/monroe/calendar/5708060/club
 s-and-organizations-day-at-ldcc-monroe
DTSTART:20240411T163000Z
DTEND:20240411T180000Z
END:VEVENT
END:VCALENDAR
