BEGIN:VCALENDAR
VERSION:2.0
PRODID:SchoolNow
CALSCALE:GREGORIAN
BEGIN:VEVENT
UID:b000dd9c-f5df-11ee-bc7e-0e9fa0da9cd5
DTSTAMP:20240408T193917Z
SUMMARY:Open Meeting with Esports Club
URL;VALUE=URI:https://www.ladelta.edu/campuses/monroe/calendar/5738037/open
 -meeting-with-esports-club
DTSTART:20240423T190000Z
DTEND:20240423T200000Z
END:VEVENT
END:VCALENDAR
