BEGIN:VCALENDAR
VERSION:2.0
PRODID:SchoolNow
CALSCALE:GREGORIAN
BEGIN:VEVENT
UID:ea1d4712-fc11-11ee-aa9f-0a58a9feac02
DTSTAMP:20240416T165356Z
SUMMARY:Consent in Relationships: Workshop for Sexual Assault Awareness Mon
 th
URL;VALUE=URI:https://www.ladelta.edu/campuses/monroe/calendar/5796094/cons
 ent-in-relationships-workshop-for-sexual-assault-awareness-month
DTSTART:20240417T173000Z
DTEND:20240417T183000Z
END:VEVENT
END:VCALENDAR
