BEGIN:VCALENDAR
VERSION:2.0
PRODID:SchoolNow
CALSCALE:GREGORIAN
BEGIN:VEVENT
UID:cec409d6-fd9e-11ee-84b1-0affec619f6d
DTSTAMP:20240418T161643Z
SUMMARY:Knightsfest at LDCC Monroe: Student Appreciation Day
URL;VALUE=URI:https://www.ladelta.edu/campuses/monroe/calendar/5810241/knig
 htsfest-at-ldcc-monroe-student-appreciation-day
DTSTART:20240423T130000Z
DTEND:20240423T183000Z
END:VEVENT
END:VCALENDAR
