BEGIN:VCALENDAR
VERSION:2.0
PRODID:SchoolNow
CALSCALE:GREGORIAN
BEGIN:VEVENT
UID:f9038672-fd9e-11ee-9320-0a58a9feac02
DTSTAMP:20240418T161626Z
SUMMARY:Knightsfest at LDCC Monroe: Employee Appreciation Day
URL;VALUE=URI:https://www.ladelta.edu/campuses/monroe/calendar/5810242/knig
 htsfest-at-ldcc-monroe-employee-appreciation-day
DTSTART:20240418T161500Z
DTEND:20240418T171500Z
END:VEVENT
END:VCALENDAR
