BEGIN:VCALENDAR
VERSION:2.0
PRODID:SchoolNow
CALSCALE:GREGORIAN
BEGIN:VEVENT
UID:3b942992-fd9f-11ee-aadd-0a58a9feac02
DTSTAMP:20240418T161803Z
SUMMARY:Knightsfest at LDCC: Take Back the "Knight" 1970's Party
URL;VALUE=URI:https://www.ladelta.edu/campuses/monroe/calendar/5810243/knig
 htsfest-at-ldcc-take-back-the-knight-1970s-party
DTSTART:20240418T161600Z
DTEND:20240418T171600Z
END:VEVENT
END:VCALENDAR
