BEGIN:VCALENDAR
VERSION:2.0
PRODID:SchoolNow
CALSCALE:GREGORIAN
BEGIN:VEVENT
UID:260ffadc-00ed-11ef-8424-0a58a9feac02
DTSTAMP:20240422T211321Z
SUMMARY:Rock Enroll at LDCC Monroe
URL;VALUE=URI:https://www.ladelta.edu/campuses/monroe/calendar/5838295/rock
 -enroll-at-ldcc-monroe
DTSTART:20240424T140000Z
DTEND:20240424T190000Z
END:VEVENT
END:VCALENDAR
