BEGIN:VCALENDAR
VERSION:2.0
PRODID:SchoolNow
CALSCALE:GREGORIAN
BEGIN:VEVENT
UID:3a1e1484-179d-11ef-8651-0e2325b50987
DTSTAMP:20240521T180912Z
SUMMARY:Esports Club: Mario Kart Tournament
URL;VALUE=URI:https://www.ladelta.edu/campuses/monroe/calendar/6007516/espo
 rts-club-mario-kart-tournament
DTSTART:20240613T213000Z
DTEND:20240613T233000Z
END:VEVENT
END:VCALENDAR
