BEGIN:VCALENDAR
VERSION:2.0
PRODID:SchoolNow
CALSCALE:GREGORIAN
BEGIN:VEVENT
UID:451f0936-1e89-11ef-80d4-0a58a9feac02
DTSTAMP:20240530T133359Z
SUMMARY:Hygiene Kits Drive: Alpha Kappa Alpha Sorority\, Inc and LDCC Monro
 e SGA
URL;VALUE=URI:https://www.ladelta.edu/campuses/monroe/calendar/6050754/hygi
 ene-kits-drive-alpha-kappa-alpha-sorority-inc-and-ldcc-monroe-sga
DTSTART:20240608T150000Z
DTEND:20240608T180000Z
END:VEVENT
END:VCALENDAR
