BEGIN:VCALENDAR
VERSION:2.0
PRODID:SchoolNow
CALSCALE:GREGORIAN
BEGIN:VEVENT
UID:daf4a8ca-3875-11ef-aeb5-0efded0f69c3
DTSTAMP:20240702T133838Z
SUMMARY:LDCC Monroe Orientation: Super Saturday!
URL;VALUE=URI:https://www.ladelta.edu/campuses/monroe/calendar/6199895/ldcc
 -orientation-super-saturday
DTSTART:20240720T140000Z
DTEND:20240720T170000Z
END:VEVENT
END:VCALENDAR
