BEGIN:VCALENDAR
VERSION:2.0
PRODID:SchoolNow
CALSCALE:GREGORIAN
BEGIN:VEVENT
UID:0e9e6ed6-3876-11ef-a841-0a58a9feac02
DTSTAMP:20240702T133804Z
SUMMARY:LDCC Monroe Orientation: Evening Advising and Registration!
URL;VALUE=URI:https://www.ladelta.edu/campuses/monroe/calendar/6199897/orie
 ntation-evening-advising
DTSTART:20240725T223000Z
DTEND:20240726T003000Z
END:VEVENT
END:VCALENDAR
