BEGIN:VCALENDAR
VERSION:2.0
PRODID:SchoolNow
CALSCALE:GREGORIAN
BEGIN:VEVENT
UID:744c4834-3876-11ef-a171-021d6ea3ecb1
DTSTAMP:20240702T133825Z
SUMMARY:LDCC Monroe Orientation: Registration and Advising!
URL;VALUE=URI:https://www.ladelta.edu/campuses/monroe/calendar/6199901/orie
 ntation-registration-and-advising
DTSTART:20240722T150000Z
DTEND:20240722T190000Z
END:VEVENT
END:VCALENDAR
