BEGIN:VCALENDAR
VERSION:2.0
PRODID:SchoolNow
CALSCALE:GREGORIAN
BEGIN:VEVENT
UID:f8f5a8be-3876-11ef-a7b4-0a58a9feac02
DTSTAMP:20240702T133651Z
SUMMARY:LDCC Monroe Orientation: Evening Advising and Registration!
URL;VALUE=URI:https://www.ladelta.edu/campuses/monroe/calendar/6199906/orie
 ntation-evening-advising-and-registration
DTSTART:20240730T220000Z
DTEND:20240731T003000Z
END:VEVENT
END:VCALENDAR
