BEGIN:VCALENDAR
VERSION:2.0
PRODID:SchoolNow
CALSCALE:GREGORIAN
BEGIN:VEVENT
UID:2dc30514-3877-11ef-8b3d-0ef5fa5f179b
DTSTAMP:20240702T133634Z
SUMMARY:LDCC Monroe Orientation: Advising and Registration!
URL;VALUE=URI:https://www.ladelta.edu/campuses/monroe/calendar/6199912/orie
 ntation-advising-and-registration
DTSTART:20240814T130000Z
DTEND:20240814T203000Z
END:VEVENT
END:VCALENDAR
