BEGIN:VCALENDAR
VERSION:2.0
PRODID:SchoolNow
CALSCALE:GREGORIAN
BEGIN:VEVENT
UID:f7560604-3e1e-11ef-bed6-0a58a9feac02
DTSTAMP:20241007T185337Z
SUMMARY:Louisiana Delta Comic Con
URL;VALUE=URI:https://www.ladelta.edu/campuses/monroe/calendar/6237031/loui
 siana-delta-comic-con
DTSTART:20241102T150000Z
DTEND:20241102T230000Z
END:VEVENT
END:VCALENDAR
