BEGIN:VCALENDAR
VERSION:2.0
PRODID:SchoolNow
CALSCALE:GREGORIAN
BEGIN:VEVENT
UID:a78a3bc2-54e4-11ef-808b-0a58a9feac02
DTSTAMP:20240820T161416Z
SUMMARY:Spooky S.T.E.M. Night 2024
URL;VALUE=URI:https://www.ladelta.edu/campuses/monroe/calendar/6367476/spoo
 ky-science-night-2024
DTSTART:20241022T220000Z
DTEND:20241023T003000Z
END:VEVENT
END:VCALENDAR
