BEGIN:VCALENDAR
VERSION:2.0
PRODID:SchoolNow
CALSCALE:GREGORIAN
BEGIN:VEVENT
UID:fda70ff2-6edf-11ef-8d72-0a58a9feac02
DTSTAMP:20240909T191618Z
SUMMARY:Winter Masquerade
URL;VALUE=URI:https://www.ladelta.edu/campuses/monroe/calendar/6562199/wint
 er-masquerade
DTSTART:20241120T000000Z
DTEND:20241120T030000Z
END:VEVENT
END:VCALENDAR
