BEGIN:VCALENDAR
VERSION:2.0
PRODID:SchoolNow
CALSCALE:GREGORIAN
BEGIN:VEVENT
UID:0014aec2-6ee3-11ef-b0e1-0a58a9feac02
DTSTAMP:20240909T193750Z
SUMMARY:SGA Open Meeting
URL;VALUE=URI:https://www.ladelta.edu/campuses/monroe/calendar/6562200/sga-
 open-meeting
DTSTART:20240923T190000Z
DTEND:20240923T200000Z
END:VEVENT
END:VCALENDAR
