BEGIN:VCALENDAR
VERSION:2.0
PRODID:SchoolNow
CALSCALE:GREGORIAN
BEGIN:VEVENT
UID:f937caca-6ee8-11ef-9aaf-0a58a9feac02
DTSTAMP:20240910T143828Z
SUMMARY:Anime Club Open Meeting
URL;VALUE=URI:https://www.ladelta.edu/campuses/monroe/calendar/6562204/anim
 e-club-open-meeting
DTSTART:20240917T193000Z
DTEND:20240917T203000Z
END:VEVENT
END:VCALENDAR
