BEGIN:VCALENDAR
VERSION:2.0
PRODID:SchoolNow
CALSCALE:GREGORIAN
BEGIN:VEVENT
UID:4f5c88e6-6fa2-11ef-ac30-0a58a9feac02
DTSTAMP:20240910T182717Z
SUMMARY:Anime Club Game Night
URL;VALUE=URI:https://www.ladelta.edu/campuses/monroe/calendar/6570949/anim
 e-club-game-night
DTSTART:20240917T203000Z
DTEND:20240918T003000Z
END:VEVENT
END:VCALENDAR
