BEGIN:VCALENDAR
VERSION:2.0
PRODID:SchoolNow
CALSCALE:GREGORIAN
BEGIN:VEVENT
UID:8e431472-7cd5-11ef-b0d0-0a58a9feac02
DTSTAMP:20240927T133652Z
SUMMARY:ASN White Coat Ceremony
URL;VALUE=URI:https://www.ladelta.edu/campuses/monroe/calendar/6702819/asn-
 white-coat-ceremony
DTSTART:20241008T230000Z
DTEND:20241009T010000Z
END:VEVENT
END:VCALENDAR
