BEGIN:VCALENDAR
VERSION:2.0
PRODID:SchoolNow
CALSCALE:GREGORIAN
BEGIN:VEVENT
UID:a3356bd4-9222-11ef-abb2-0a58a9feac02
DTSTAMP:20241024T161133Z
SUMMARY:Nursing Pinning Ceremony: Class of 2024
URL;VALUE=URI:https://www.ladelta.edu/campuses/monroe/calendar/6889683/nurs
 ing-pinning-ceremony-class-of-2024
DTSTART:20241214T000000Z
DTEND:20241214T020000Z
END:VEVENT
END:VCALENDAR
