BEGIN:VCALENDAR
VERSION:2.0
PRODID:SchoolNow
CALSCALE:GREGORIAN
BEGIN:VEVENT
UID:7189a882-9891-11ef-89c9-0a58a9feac02
DTSTAMP:20241101T203951Z
SUMMARY:Celebrating First Generation College Students
URL;VALUE=URI:https://www.ladelta.edu/campuses/monroe/calendar/6942268/cele
 brating-first-generation-college-students
DTSTART:20241107T173000Z
DTEND:20241107T193000Z
END:VEVENT
END:VCALENDAR
