BEGIN:VCALENDAR
VERSION:2.0
PRODID:SchoolNow
CALSCALE:GREGORIAN
BEGIN:VEVENT
UID:67b6a2bc-9b82-11ef-8420-0a58a9feac02
DTSTAMP:20241105T142945Z
SUMMARY:Veteran's Day Program at LDCC Monroe
URL;VALUE=URI:https://www.ladelta.edu/campuses/monroe/calendar/6964181/vete
 rans-day-program-at-ldcc-monroe
DTSTART:20241111T170000Z
DTEND:20241111T180000Z
END:VEVENT
END:VCALENDAR
