BEGIN:VCALENDAR
VERSION:2.0
PRODID:SchoolNow
CALSCALE:GREGORIAN
BEGIN:VEVENT
UID:119231f4-a6b2-11ef-8506-0a58a9feac02
DTSTAMP:20241119T200840Z
SUMMARY:Knights Esports Club: Open Meeting
URL;VALUE=URI:https://www.ladelta.edu/campuses/monroe/calendar/7047835/knig
 hts-esports-club-open-meeting
DTSTART:20241126T200000Z
DTEND:20241126T210000Z
END:VEVENT
END:VCALENDAR
