BEGIN:VCALENDAR
VERSION:2.0
PRODID:SchoolNow
CALSCALE:GREGORIAN
BEGIN:VEVENT
UID:d75a94d2-a8e5-11ef-a6b0-0a58a9feac02
DTSTAMP:20241122T152418Z
SUMMARY:LDCC Monroe: Fall Graduate Cap Adornment
URL;VALUE=URI:https://www.ladelta.edu/campuses/monroe/calendar/7062817/ldcc
 -monroe-fall-graduate-cap-adornment
DTSTART:20241203T170000Z
DTEND:20241203T180000Z
END:VEVENT
END:VCALENDAR
