BEGIN:VCALENDAR
VERSION:2.0
PRODID:SchoolNow
CALSCALE:GREGORIAN
BEGIN:VEVENT
UID:769dd31c-ab4b-11ef-b2c0-0a58a9feac02
DTSTAMP:20241125T163647Z
SUMMARY:LDCC Monroe: Animated Arcade Holiday Bash!
URL;VALUE=URI:https://www.ladelta.edu/campuses/monroe/calendar/7077679/ldcc
 -monroe-animated-arcade-holiday-bash
DTSTART:20241203T213000Z
DTEND:20241204T013000Z
END:VEVENT
END:VCALENDAR
