BEGIN:VCALENDAR
VERSION:2.0
PRODID:SchoolNow
CALSCALE:GREGORIAN
BEGIN:VEVENT
UID:5e484048-b197-11ef-884c-0affd136135b
DTSTAMP:20241203T165515Z
SUMMARY:JAG Pet Shelter Drive
URL;VALUE=URI:https://www.ladelta.edu/campuses/monroe/calendar/7115763/jag-
 pet-shelter-drive
DTSTART:20241209T130000Z
DTEND:20241209T140000Z
END:VEVENT
END:VCALENDAR
