BEGIN:VCALENDAR
VERSION:2.0
PRODID:SchoolNow
CALSCALE:GREGORIAN
BEGIN:VEVENT
UID:9c96b086-b198-11ef-8ed1-0a58a9feac02
DTSTAMP:20241203T170409Z
SUMMARY:JAG Reindeer Games
URL;VALUE=URI:https://www.ladelta.edu/campuses/monroe/calendar/7115765/jag-
 reindeer-games
DTSTART:20241217T190000Z
DTEND:20241217T220000Z
END:VEVENT
END:VCALENDAR
