BEGIN:VCALENDAR
VERSION:2.0
PRODID:SchoolNow
CALSCALE:GREGORIAN
BEGIN:VEVENT
UID:c6af8a14-b198-11ef-bcde-026382fa476b
DTSTAMP:20241203T201703Z
SUMMARY:JAG Santa and Crafts: Open to the Community!
URL;VALUE=URI:https://www.ladelta.edu/campuses/monroe/calendar/7115766/jag-
 santa-and-crafts-open-to-the-community
DTSTART:20241211T213000Z
DTEND:20241212T000000Z
END:VEVENT
END:VCALENDAR
