BEGIN:VCALENDAR
VERSION:2.0
PRODID:SchoolNow
CALSCALE:GREGORIAN
BEGIN:VEVENT
UID:96e63656-cd19-11ef-b7d1-0a58a9feac02
DTSTAMP:20250107T170526Z
SUMMARY:Martin Luther King Jr. Day of Service: LDCC Monroe
URL;VALUE=URI:https://www.ladelta.edu/campuses/monroe/calendar/7281371/mart
 in-luther-king-jr-day-of-service-ldcc-monroe
DTSTART:20250120T160000Z
DTEND:20250120T180000Z
END:VEVENT
END:VCALENDAR
