BEGIN:VCALENDAR
VERSION:2.0
PRODID:SchoolNow
CALSCALE:GREGORIAN
BEGIN:VEVENT
UID:398d01a4-cde8-11ef-8726-0268ede5cc6b
DTSTAMP:20250108T174435Z
SUMMARY:OER Student Awareness Day: Lunch and Learn at LDCC Monroe!
URL;VALUE=URI:https://www.ladelta.edu/campuses/monroe/calendar/7286728/oer-
 student-awareness-day-lunch-and-learn-at-ldcc-monroe
DTSTART:20250310T170000Z
DTEND:20250310T180000Z
END:VEVENT
END:VCALENDAR
