BEGIN:VCALENDAR
VERSION:2.0
PRODID:SchoolNow
CALSCALE:GREGORIAN
BEGIN:VEVENT
UID:5b71d69e-ce94-11ef-846c-0a58a9feac02
DTSTAMP:20250109T141645Z
SUMMARY:Mental Health Lunch and Learn: LDCC Monroe
URL;VALUE=URI:https://www.ladelta.edu/campuses/monroe/calendar/7290653/ment
 al-health-lunch-and-learn-ldcc-monroe
DTSTART:20250211T170000Z
DTEND:20250211T180000Z
END:VEVENT
END:VCALENDAR
