BEGIN:VCALENDAR
VERSION:2.0
PRODID:SchoolNow
CALSCALE:GREGORIAN
BEGIN:VEVENT
UID:972e1638-d8e5-11ef-b784-021410d72da1
DTSTAMP:20250122T172326Z
SUMMARY:LDCC Monroe Movie Night with Open Heart Productions: The Bogman
URL;VALUE=URI:https://www.ladelta.edu/campuses/monroe/calendar/7353947/ldcc
 -monroe-movie-night-with-open-heart-productions-the-bogman
DTSTART:20250307T000000Z
DTEND:20250307T030000Z
END:VEVENT
END:VCALENDAR
