BEGIN:VCALENDAR
VERSION:2.0
PRODID:SchoolNow
CALSCALE:GREGORIAN
BEGIN:VEVENT
UID:3eb49924-d8ee-11ef-84dc-021410d72da1
DTSTAMP:20250122T182523Z
SUMMARY:Knights Esports Club Open Meeting: LDCC Monroe
URL;VALUE=URI:https://www.ladelta.edu/campuses/monroe/calendar/7354110/knig
 hts-esports-club-open-meeting-ldcc-monroe
DTSTART:20250204T183000Z
DTEND:20250204T193000Z
END:VEVENT
END:VCALENDAR
