BEGIN:VCALENDAR
VERSION:2.0
PRODID:SchoolNow
CALSCALE:GREGORIAN
BEGIN:VEVENT
UID:e34b463a-e88a-11ef-8c6e-02d404ec7d19
DTSTAMP:20250211T151610Z
SUMMARY:Black History Month Program: LDCC Monroe
URL;VALUE=URI:https://www.ladelta.edu/campuses/monroe/calendar/7452859/blac
 k-history-month-program-ldcc-monroe
DTSTART:20250227T180000Z
DTEND:20250227T190000Z
END:VEVENT
END:VCALENDAR
